BEGIN:VCALENDAR
VERSION:2.0
PRODID:-//https://www.belbeuf.fr///NONSGML kigkonsult.se iCalcreator 2.10.15//
METHOD:PUBLISH
BEGIN:VEVENT
UID:20260424T081831UTC-7562VAJuUu@https://www.belbeuf.fr/
DTSTAMP:20260424T081831Z
DESCRIPTION:&nbsp\;\n&nbsp\;\n&nbsp\;\n&nbsp\;\n&nbsp\;\n&nbsp\;\n&nbsp\; h
 ttps://www.belbeuf.fr/component/rseventspro/evenement/338-concert-pour-zoe
 .html?Itemid=101
DTSTART:20260117T200000Z
DTEND:20260117T220000Z
LOCATION:Salle Bourvil à Franqueville-Saint-Pierre ()
SUMMARY:Concert pour ZOE
URL:https://www.belbeuf.fr/component/rseventspro/evenement/338-concert-pour
 -zoe.html?Itemid=101
END:VEVENT
END:VCALENDAR
