BEGIN:VCALENDAR
VERSION:2.0
PRODID:-//https://www.belbeuf.fr///NONSGML kigkonsult.se iCalcreator 2.10.15//
METHOD:PUBLISH
BEGIN:VEVENT
UID:20260421T104847UTC-6629nvLD2l@https://www.belbeuf.fr/
DTSTAMP:20260421T104847Z
DESCRIPTION:&nbsp\;\n&nbsp\;\n&nbsp\;\n&nbsp\;\n&nbsp\;\n&nbsp\;\n&nbsp\; h
 ttps://www.belbeuf.fr/component/rseventspro/evenement/209-concert-de-fin-d
 annee-de-lecole-de-musique.html?Itemid=101
DTSTART:20240616T150000Z
DTEND:20240616T170000Z
LOCATION:Salle des fêtes de Belbeuf  (Salle des fêtes de Belbeuf )
SUMMARY:Concert de fin d'année de l'Ecole de Musique
URL:https://www.belbeuf.fr/component/rseventspro/evenement/209-concert-de-f
 in-dannee-de-lecole-de-musique.html?Itemid=101
END:VEVENT
END:VCALENDAR
