BEGIN:VCALENDAR
VERSION:2.0
PRODID:-//https://www.belbeuf.fr///NONSGML kigkonsult.se iCalcreator 2.10.15//
METHOD:PUBLISH
BEGIN:VEVENT
UID:20260421T191527UTC-27094RUvBT@https://www.belbeuf.fr/
DTSTAMP:20260421T191527Z
DESCRIPTION:&nbsp\;\n\n&nbsp\;\n&nbsp\;\n&nbsp\;\n&nbsp\; https://www.belbe
 uf.fr/component/rseventspro/evenement/138-concert-du-choeur-concordia.html
 ?Itemid=101
DTSTART;VALUE=DATE:20240629
LOCATION:Eglise de Belbeuf (Eglise de Belbeuf)
SUMMARY:Concert du Choeur CONCORDIA
URL:https://www.belbeuf.fr/component/rseventspro/evenement/138-concert-du-c
 hoeur-concordia.html?Itemid=101
END:VEVENT
END:VCALENDAR
